BEGIN:VCALENDAR
VERSION:2.0
PRODID:-//wp-events-plugin.com//7.2.3.1//EN
TZID:America/Denver
X-WR-TIMEZONE:America/Denver
BEGIN:VEVENT
UID:192@nawic356.org
DTSTART;TZID=America/Denver:20260521T173000
DTEND;TZID=America/Denver:20260521T193000
DTSTAMP:20260327T025523Z
URL:https://nawic356.org/Calendar/may-membership-meeting-2/
SUMMARY:May Membership Meeting
DESCRIPTION:Join us for our May NAWIC Membership Meeting featuring special 
 guest speaker Ally Jencson\, an experienced leader in the construction ind
 ustry and passionate advocate for empowering professionals in the trades.\
 n\nThis month’s topic\, “Construction of a R.E.B.E.L.”\, focuses on 
 discovering your strengths\, improving communication\, and unlocking leade
 rship potential in both your professional and personal life.\n\nAlly will 
 share insights from her experience working within the construction industr
 y and navigating the unique challenges often faced by professionals in the
  field — particularly women in subcontracting and the trades.\n\nDuring 
 this engaging and interactive session\, Ally will explore:\n\n• How to t
 ap into your unique strengths and embrace self-discovery\n\n• Practical 
 ways to strengthen communication skills in the workplace\n\n• Strategies
  to unlock your leadership potential\n\n• Real-world insight from naviga
 ting the construction industry\n\n• How resilience and authenticity can 
 help you thrive in your career\n\nThis session promises to be engaging\, i
 nspiring\, and filled with actionable takeaways you can apply immediately 
 in your work and leadership journey.\n\n📅 Thursday\, May 21st\, 2026\n\
 n⏰ 5:30 PM – 8:30 PM\n\n📍 Timberline Landscaping\n\n8110 Opportunit
 y View\n\nColorado Springs\, CO 80939\n\n🍽️ Catered Event\n\n 	$25 fo
 r Members\n 	$35 for Non-Members\n\n🕛 RSVP via Zeffy by Monday\, May 18
 th\, 2026\n\nPlease note: There are no refunds for cancellations or no-sho
 ws.\n\nThis event is perfect for NAWIC members\, as well as contractors\, 
 developers\, engineers\, inspectors\, project managers\, and other constru
 ction and industry professionals.\n\n✨ We encourage NAWIC members to att
 end — and invite colleagues and industry partners to join us.\n
LOCATION:Timberline Landscaping\, 8110 Opportunity View\, Colorado Springs\
 , CO\, 80939\, United States
X-APPLE-STRUCTURED-LOCATION;VALUE=URI;X-ADDRESS=8110 Opportunity View\, Col
 orado Springs\, CO\, 80939\, United States;X-APPLE-RADIUS=100;X-TITLE=Timb
 erline Landscaping:geo:0,0
END:VEVENT
BEGIN:VTIMEZONE
TZID:America/Denver
X-LIC-LOCATION:America/Denver
BEGIN:DAYLIGHT
DTSTART:20260308T030000
TZOFFSETFROM:-0700
TZOFFSETTO:-0600
TZNAME:MDT
END:DAYLIGHT
END:VTIMEZONE
END:VCALENDAR